BEGIN:VCALENDAR
VERSION:2.0
PRODID:-//Goat Hill Girls - ECPv6.15.20//NONSGML v1.0//EN
CALSCALE:GREGORIAN
METHOD:PUBLISH
X-ORIGINAL-URL:https://www.goathillgirls.com
X-WR-CALDESC:Events for Goat Hill Girls
REFRESH-INTERVAL;VALUE=DURATION:PT1H
X-Robots-Tag:noindex
X-PUBLISHED-TTL:PT1H
BEGIN:VTIMEZONE
TZID:America/Los_Angeles
BEGIN:DAYLIGHT
TZOFFSETFROM:-0800
TZOFFSETTO:-0700
TZNAME:PDT
DTSTART:20250309T100000
END:DAYLIGHT
BEGIN:STANDARD
TZOFFSETFROM:-0700
TZOFFSETTO:-0800
TZNAME:PST
DTSTART:20251102T090000
END:STANDARD
BEGIN:DAYLIGHT
TZOFFSETFROM:-0800
TZOFFSETTO:-0700
TZNAME:PDT
DTSTART:20260308T100000
END:DAYLIGHT
BEGIN:STANDARD
TZOFFSETFROM:-0700
TZOFFSETTO:-0800
TZNAME:PST
DTSTART:20261101T090000
END:STANDARD
BEGIN:DAYLIGHT
TZOFFSETFROM:-0800
TZOFFSETTO:-0700
TZNAME:PDT
DTSTART:20270314T100000
END:DAYLIGHT
BEGIN:STANDARD
TZOFFSETFROM:-0700
TZOFFSETTO:-0800
TZNAME:PST
DTSTART:20271107T090000
END:STANDARD
END:VTIMEZONE
BEGIN:VEVENT
DTSTART;TZID=America/Los_Angeles:20260411T140000
DTEND;TZID=America/Los_Angeles:20260411T160000
DTSTAMP:20260422T152344
CREATED:20260225T205834Z
LAST-MODIFIED:20260225T205834Z
UID:5144-1775916000-1775923200@www.goathillgirls.com
SUMMARY:Cooper-Garrod Vineyards at Garrod Farms
DESCRIPTION:Cooper-Garrod Vineyards at Garrod Farms\n				\n			\n				\n			\n				\n				Goat Hill Girls at Cooper Garrod\n				\n		\n\nJoin the Goat Hill Girls for an unforgettable afternoon of high-energy bluegrass in one of the most beautiful settings in the Bay Area — the stunning vineyards of Cooper-Garrod Estate Vineyards in Saratoga. \nNestled in the rolling hills above Silicon Valley\, Cooper-Garrod offers award-winning estate wines\, sweeping vineyard views\, and even horses grazing nearby — it’s the perfect blend of rustic charm and refined wine country elegance. \nBring your friends\, grab a glass (or a tasting flight!)\, settle in on the patio\, and let the harmonies roll. With the vineyards as our backdrop and the sun dipping behind the hills\, it’s the kind of afternoon that reminds you why live music and good wine belong together. \n🍷 Wine tasting\n🐎 Horses & vineyard views\n🎶 Bluegrass harmonies in a breathtaking setting \nWe can’t wait to see you there!
URL:https://www.goathillgirls.com/event/cooper-garrod-vineyards-at-garrod-farms/
LOCATION:Cooper-Garrod Vineyards at Garrod Farms\, 22645 Garrod Rd\, Saratoga\, 95070
CATEGORIES:Wine Tasting
END:VEVENT
BEGIN:VEVENT
DTSTART;TZID=America/Los_Angeles:20260421T180000
DTEND;TZID=America/Los_Angeles:20260421T210000
DTSTAMP:20260422T152344
CREATED:20260417T002910Z
LAST-MODIFIED:20260417T003613Z
UID:5160-1776794400-1776805200@www.goathillgirls.com
SUMMARY:Tuesday Bluegrass @ Sam’s on Bascom
DESCRIPTION:
URL:https://www.goathillgirls.com/event/sams-bbq/
LOCATION:Sam’s Bar-B-Que\, 1110 South Bascom Ave\, San Jose\, CA\, 95128\, United States
CATEGORIES:Barbeque
ATTACH;FMTTYPE=image/png:https://www.goathillgirls.com/wp-content/uploads/2026/04/8F77DF0D-79BA-4E78-80A4-60AB97F1A25D.png
END:VEVENT
BEGIN:VEVENT
DTSTART;TZID=America/Los_Angeles:20260523T190000
DTEND;TZID=America/Los_Angeles:20260523T210000
DTSTAMP:20260422T152344
CREATED:20260417T004421Z
LAST-MODIFIED:20260417T005838Z
UID:5170-1779562800-1779570000@www.goathillgirls.com
SUMMARY:Los Gatos Coffee Roasting Company
DESCRIPTION:
URL:https://www.goathillgirls.com/event/los-gatos-coffee-roasting-company/
LOCATION:Los Gatos Coffee Roasting Company\, 101 W Main St\, Los Gatos\, 95030\, United States
CATEGORIES:Coffee Shop
ATTACH;FMTTYPE=image/jpeg:https://www.goathillgirls.com/wp-content/uploads/2026/04/IMG_0640-scaled.jpeg
END:VEVENT
BEGIN:VEVENT
DTSTART;TZID=America/Los_Angeles:20260525T140000
DTEND;TZID=America/Los_Angeles:20260525T160000
DTSTAMP:20260422T152344
CREATED:20260417T004942Z
LAST-MODIFIED:20260417T193452Z
UID:5174-1779717600-1779724800@www.goathillgirls.com
SUMMARY:Cooper Garrod Winery
DESCRIPTION:
URL:https://www.goathillgirls.com/event/cooper-garrod-winery/
LOCATION:Cooper-Garrod Vineyards at Garrod Farms\, 22645 Garrod Rd\, Saratoga\, 95070
CATEGORIES:Wine Tasting
ATTACH;FMTTYPE=image/jpeg:https://www.goathillgirls.com/wp-content/uploads/2026/02/IMG_6399-scaled-e1772053074827.jpeg
END:VEVENT
BEGIN:VEVENT
DTSTART;TZID=America/Los_Angeles:20260725T190000
DTEND;TZID=America/Los_Angeles:20260725T210000
DTSTAMP:20260422T152344
CREATED:20260417T010124Z
LAST-MODIFIED:20260417T193445Z
UID:5181-1785006000-1785013200@www.goathillgirls.com
SUMMARY:Los Gatos Coffee Roasting Company w/special guest
DESCRIPTION:
URL:https://www.goathillgirls.com/event/los-gatos-coffee-roasting-company-w-special-guest/
LOCATION:Los Gatos Coffee Roasting Company\, 101 W Main St\, Los Gatos\, 95030\, United States
CATEGORIES:Coffee Shop
ATTACH;FMTTYPE=image/jpeg:https://www.goathillgirls.com/wp-content/uploads/2026/04/IMG_0640-scaled.jpeg
END:VEVENT
BEGIN:VEVENT
DTSTART;TZID=America/Los_Angeles:20260919T140000
DTEND;TZID=America/Los_Angeles:20260919T160000
DTSTAMP:20260422T152344
CREATED:20260417T010322Z
LAST-MODIFIED:20260417T193433Z
UID:5183-1789826400-1789833600@www.goathillgirls.com
SUMMARY:Cooper Garrod
DESCRIPTION:
URL:https://www.goathillgirls.com/event/cooper-garrod/
LOCATION:Cooper-Garrod Vineyards at Garrod Farms\, 22645 Garrod Rd\, Saratoga\, 95070
CATEGORIES:Wine Tasting
ATTACH;FMTTYPE=image/jpeg:https://www.goathillgirls.com/wp-content/uploads/2026/02/IMG_6399-scaled-e1772053074827.jpeg
END:VEVENT
BEGIN:VEVENT
DTSTART;TZID=America/Los_Angeles:20260926T190000
DTEND;TZID=America/Los_Angeles:20260926T210000
DTSTAMP:20260422T152344
CREATED:20260417T010508Z
LAST-MODIFIED:20260417T010508Z
UID:5185-1790449200-1790456400@www.goathillgirls.com
SUMMARY:Los Gatos Coffee Roasting Company
DESCRIPTION:
URL:https://www.goathillgirls.com/event/los-gatos-coffee-roasting-company-2/
LOCATION:Los Gatos Coffee Roasting Company\, 101 W Main St\, Los Gatos\, 95030\, United States
CATEGORIES:Coffee Shop
ATTACH;FMTTYPE=image/jpeg:https://www.goathillgirls.com/wp-content/uploads/2026/04/IMG_0640-scaled.jpeg
END:VEVENT
BEGIN:VEVENT
DTSTART;TZID=America/Los_Angeles:20261031T140000
DTEND;TZID=America/Los_Angeles:20261031T160000
DTSTAMP:20260422T152344
CREATED:20260417T011527Z
LAST-MODIFIED:20260417T011527Z
UID:5189-1793455200-1793462400@www.goathillgirls.com
SUMMARY:Halloween at Cooper Garrod
DESCRIPTION:
URL:https://www.goathillgirls.com/event/halloween-at-cooper-garrod/
LOCATION:Cooper-Garrod Vineyards at Garrod Farms\, 22645 Garrod Rd\, Saratoga\, 95070
CATEGORIES:Wine Tasting
ATTACH;FMTTYPE=image/jpeg:https://www.goathillgirls.com/wp-content/uploads/2025/11/GHG-Halloween-scaled.jpg
END:VEVENT
END:VCALENDAR