BEGIN:VCALENDAR
VERSION:2.0
PRODID:-//Goat Hill Girls - ECPv6.15.20//NONSGML v1.0//EN
CALSCALE:GREGORIAN
METHOD:PUBLISH
X-WR-CALNAME:Goat Hill Girls
X-ORIGINAL-URL:https://www.goathillgirls.com
X-WR-CALDESC:Events for Goat Hill Girls
REFRESH-INTERVAL;VALUE=DURATION:PT1H
X-Robots-Tag:noindex
X-PUBLISHED-TTL:PT1H
BEGIN:VTIMEZONE
TZID:America/Los_Angeles
BEGIN:DAYLIGHT
TZOFFSETFROM:-0800
TZOFFSETTO:-0700
TZNAME:PDT
DTSTART:20240310T100000
END:DAYLIGHT
BEGIN:STANDARD
TZOFFSETFROM:-0700
TZOFFSETTO:-0800
TZNAME:PST
DTSTART:20241103T090000
END:STANDARD
BEGIN:DAYLIGHT
TZOFFSETFROM:-0800
TZOFFSETTO:-0700
TZNAME:PDT
DTSTART:20250309T100000
END:DAYLIGHT
BEGIN:STANDARD
TZOFFSETFROM:-0700
TZOFFSETTO:-0800
TZNAME:PST
DTSTART:20251102T090000
END:STANDARD
BEGIN:DAYLIGHT
TZOFFSETFROM:-0800
TZOFFSETTO:-0700
TZNAME:PDT
DTSTART:20260308T100000
END:DAYLIGHT
BEGIN:STANDARD
TZOFFSETFROM:-0700
TZOFFSETTO:-0800
TZNAME:PST
DTSTART:20261101T090000
END:STANDARD
BEGIN:DAYLIGHT
TZOFFSETFROM:-0800
TZOFFSETTO:-0700
TZNAME:PDT
DTSTART:20270314T100000
END:DAYLIGHT
BEGIN:STANDARD
TZOFFSETFROM:-0700
TZOFFSETTO:-0800
TZNAME:PST
DTSTART:20271107T090000
END:STANDARD
END:VTIMEZONE
BEGIN:VEVENT
DTSTART;TZID=America/Los_Angeles:20260411T140000
DTEND;TZID=America/Los_Angeles:20260411T160000
DTSTAMP:20260422T151938
CREATED:20260225T205834Z
LAST-MODIFIED:20260225T205834Z
UID:5144-1775916000-1775923200@www.goathillgirls.com
SUMMARY:Cooper-Garrod Vineyards at Garrod Farms
DESCRIPTION:Cooper-Garrod Vineyards at Garrod Farms\n				\n			\n				\n			\n				\n				Goat Hill Girls at Cooper Garrod\n				\n		\n\nJoin the Goat Hill Girls for an unforgettable afternoon of high-energy bluegrass in one of the most beautiful settings in the Bay Area — the stunning vineyards of Cooper-Garrod Estate Vineyards in Saratoga. \nNestled in the rolling hills above Silicon Valley\, Cooper-Garrod offers award-winning estate wines\, sweeping vineyard views\, and even horses grazing nearby — it’s the perfect blend of rustic charm and refined wine country elegance. \nBring your friends\, grab a glass (or a tasting flight!)\, settle in on the patio\, and let the harmonies roll. With the vineyards as our backdrop and the sun dipping behind the hills\, it’s the kind of afternoon that reminds you why live music and good wine belong together. \n🍷 Wine tasting\n🐎 Horses & vineyard views\n🎶 Bluegrass harmonies in a breathtaking setting \nWe can’t wait to see you there!
URL:https://www.goathillgirls.com/event/cooper-garrod-vineyards-at-garrod-farms/
LOCATION:Cooper-Garrod Vineyards at Garrod Farms\, 22645 Garrod Rd\, Saratoga\, 95070
CATEGORIES:Wine Tasting
END:VEVENT
BEGIN:VEVENT
DTSTART;TZID=America/Los_Angeles:20260127T180000
DTEND;TZID=America/Los_Angeles:20260127T210000
DTSTAMP:20260422T151939
CREATED:20251119T222928Z
LAST-MODIFIED:20260417T193508Z
UID:4975-1769536800-1769547600@www.goathillgirls.com
SUMMARY:Sam's Barbeque
DESCRIPTION:Join us for an evening of our style of bluegrass etc. at the wonderful Sam’s BBQ in San Jose.
URL:https://www.goathillgirls.com/event/sams/
CATEGORIES:Barbeque
END:VEVENT
BEGIN:VEVENT
DTSTART;TZID=America/Los_Angeles:20251122T160000
DTEND;TZID=America/Los_Angeles:20251122T164500
DTSTAMP:20260422T151939
CREATED:20251119T222928Z
LAST-MODIFIED:20251119T231137Z
UID:4978-1763827200-1763829900@www.goathillgirls.com
SUMMARY:live on KALW 91.7 - On air Folk Festival
DESCRIPTION:KALW Bay Area radio 91.7FM is hosting an on-air Folk Festival this Sat afternoon and we will be on the radio at 4-4:45 pm with renowned radio host Peter Thompson! If you can’t listen then\, the show will be available at kalw.org for one week after. \n \nWhen: This Saturday 11/22/25 4-4:45pm (on-air Folk Festival 2-7pm)\nWhere: on air at KALW 91.7 San Francisco. Stream at kalw.org\nAvailable for one week after show at kalw.org archives\nWho: The Goat Hill Girls\nWhy: Boost your mood with upbeat and soulful bluegrass\, country\, originals and more over the airwaves! Public radio rocks\, folks!\n more info:\nhttps://www.cbaweb.org/MessageBoard/Topic/98329\n 
URL:https://www.goathillgirls.com/event/harmony-in-the-park-a-community-music-and-arts-festival/
CATEGORIES:Community,Festival
END:VEVENT
END:VCALENDAR