BEGIN:VCALENDAR
VERSION:2.0
PRODID:-//Goat Hill Girls - ECPv6.15.20//NONSGML v1.0//EN
CALSCALE:GREGORIAN
METHOD:PUBLISH
X-ORIGINAL-URL:https://www.goathillgirls.com
X-WR-CALDESC:Events for Goat Hill Girls
REFRESH-INTERVAL;VALUE=DURATION:PT1H
X-Robots-Tag:noindex
X-PUBLISHED-TTL:PT1H
BEGIN:VTIMEZONE
TZID:America/Los_Angeles
BEGIN:DAYLIGHT
TZOFFSETFROM:-0800
TZOFFSETTO:-0700
TZNAME:PDT
DTSTART:20250309T100000
END:DAYLIGHT
BEGIN:STANDARD
TZOFFSETFROM:-0700
TZOFFSETTO:-0800
TZNAME:PST
DTSTART:20251102T090000
END:STANDARD
BEGIN:DAYLIGHT
TZOFFSETFROM:-0800
TZOFFSETTO:-0700
TZNAME:PDT
DTSTART:20260308T100000
END:DAYLIGHT
BEGIN:STANDARD
TZOFFSETFROM:-0700
TZOFFSETTO:-0800
TZNAME:PST
DTSTART:20261101T090000
END:STANDARD
BEGIN:DAYLIGHT
TZOFFSETFROM:-0800
TZOFFSETTO:-0700
TZNAME:PDT
DTSTART:20270314T100000
END:DAYLIGHT
BEGIN:STANDARD
TZOFFSETFROM:-0700
TZOFFSETTO:-0800
TZNAME:PST
DTSTART:20271107T090000
END:STANDARD
END:VTIMEZONE
BEGIN:VEVENT
DTSTART;TZID=America/Los_Angeles:20261031T140000
DTEND;TZID=America/Los_Angeles:20261031T160000
DTSTAMP:20260422T150939
CREATED:20260417T011527Z
LAST-MODIFIED:20260417T011527Z
UID:5189-1793455200-1793462400@www.goathillgirls.com
SUMMARY:Halloween at Cooper Garrod
DESCRIPTION:
URL:https://www.goathillgirls.com/event/halloween-at-cooper-garrod/
LOCATION:Cooper-Garrod Vineyards at Garrod Farms\, 22645 Garrod Rd\, Saratoga\, 95070
CATEGORIES:Wine Tasting
ATTACH;FMTTYPE=image/jpeg:https://www.goathillgirls.com/wp-content/uploads/2025/11/GHG-Halloween-scaled.jpg
END:VEVENT
END:VCALENDAR